BEGIN:VCALENDAR
VERSION:2.0
PRODID:-//Kansas Humane Society - ECPv6.15.20//NONSGML v1.0//EN
CALSCALE:GREGORIAN
METHOD:PUBLISH
X-WR-CALNAME:Kansas Humane Society
X-ORIGINAL-URL:https://kshumane.org
X-WR-CALDESC:Events for Kansas Humane Society
REFRESH-INTERVAL;VALUE=DURATION:PT1H
X-Robots-Tag:noindex
X-PUBLISHED-TTL:PT1H
BEGIN:VTIMEZONE
TZID:America/Chicago
BEGIN:DAYLIGHT
TZOFFSETFROM:-0600
TZOFFSETTO:-0500
TZNAME:CDT
DTSTART:20240310T080000
END:DAYLIGHT
BEGIN:STANDARD
TZOFFSETFROM:-0500
TZOFFSETTO:-0600
TZNAME:CST
DTSTART:20241103T070000
END:STANDARD
BEGIN:DAYLIGHT
TZOFFSETFROM:-0600
TZOFFSETTO:-0500
TZNAME:CDT
DTSTART:20250309T080000
END:DAYLIGHT
BEGIN:STANDARD
TZOFFSETFROM:-0500
TZOFFSETTO:-0600
TZNAME:CST
DTSTART:20251102T070000
END:STANDARD
BEGIN:DAYLIGHT
TZOFFSETFROM:-0600
TZOFFSETTO:-0500
TZNAME:CDT
DTSTART:20260308T080000
END:DAYLIGHT
BEGIN:STANDARD
TZOFFSETFROM:-0500
TZOFFSETTO:-0600
TZNAME:CST
DTSTART:20261101T070000
END:STANDARD
END:VTIMEZONE
BEGIN:VEVENT
DTSTART;TZID=America/Chicago:20250708T103000
DTEND;TZID=America/Chicago:20250708T111500
DTSTAMP:20260422T073037
CREATED:20250409T172122Z
LAST-MODIFIED:20251208T160450Z
UID:10000031-1751970600-1751973300@kshumane.org
SUMMARY:Tot Tuesday
DESCRIPTION:The Kansas Humane Society has decided to reach out to area children by offering a special monthly story! Come to KHS with your child for the opportunity to mix learning & fun! Children will enjoy listening to stories about animals\, do a fun craft and meet with KHS pets waiting for adoption. \n \n\nFor children ages 2 to 5 years old\n10:30 – 11:15am\nIn the KHS Learning Center\nPre-registration is required\n\nRegister
URL:https://kshumane.org/event/tot-tuesday/2025-07-08/
LOCATION:Kansas Humane Society\, 3313 N Hillside St\, Wichita\, KS\, 67219\, United States
CATEGORIES:Tot Tuesday
ATTACH;FMTTYPE=image/jpeg:https://kshumane.org/wp-content/uploads/2025/04/Tot-Tuesday-FB-event.jpg
END:VEVENT
BEGIN:VEVENT
DTSTART;VALUE=DATE:20250704
DTEND;VALUE=DATE:20250705
DTSTAMP:20260422T073037
CREATED:20250617T205251Z
LAST-MODIFIED:20250621T192443Z
UID:10000086-1751587200-1751673599@kshumane.org
SUMMARY:KHS CLOSED
DESCRIPTION:KHS will be closed on Friday\, July 4th in observance of Independence Day!
URL:https://kshumane.org/event/khs-closed/
LOCATION:Kansas Humane Society\, 3313 N Hillside St\, Wichita\, KS\, 67219\, United States
ATTACH;FMTTYPE=image/jpeg:https://kshumane.org/wp-content/uploads/2025/06/orange-daisy-Mothers-Day-Presentation-169-scaled.jpg
END:VEVENT
BEGIN:VEVENT
DTSTART;TZID=America/Chicago:20250702T170000
DTEND;TZID=America/Chicago:20250702T200000
DTSTAMP:20260422T073037
CREATED:20250617T190953Z
LAST-MODIFIED:20250618T202415Z
UID:10000082-1751475600-1751486400@kshumane.org
SUMMARY:Doggy Days
DESCRIPTION:Eat. Play. Give. Grab your dogs and join us for a fundraiser at Chicken N Pickle. Enjoy a delicious meal\, play yard games\, and check out local vendors\, all while supporting KHS! 10% of food\, drink\, and pickleball sales will be donated back to the Kansas Humane Society.
URL:https://kshumane.org/event/doggy-days/2025-07-02/
LOCATION:Chicken N Pickle\, 1240 N Greenwich Rd\, Wichita\, KS\, 67206\, United States
CATEGORIES:3rd Party Events
ATTACH;FMTTYPE=image/jpeg:https://kshumane.org/wp-content/uploads/2025/06/2025-Doggy-Days-FB-Event.jpg
END:VEVENT
BEGIN:VEVENT
DTSTART;TZID=America/Chicago:20250628T090000
DTEND;TZID=America/Chicago:20250628T120000
DTSTAMP:20260422T073037
CREATED:20250617T191900Z
LAST-MODIFIED:20250617T192508Z
UID:10000085-1751101200-1751112000@kshumane.org
SUMMARY:Critter Camp
DESCRIPTION:Join us here at the KHS Learning Center on Saturday\, June 28th from 9 AM – 12 PM for Critter Camp! We’re so excited to bring this program back! This camp session will be a fun\, hands-on exploration of the world of cats! Children (Grades 2nd – 5th) will be making cat-themed crafts\, creating enrichment toys for our shelter cats\, and getting the chance to meet some of our calmer felines up close! Snacks will be provided! \n\nRegister
URL:https://kshumane.org/event/critter-camp/
LOCATION:Kansas Humane Society\, 3313 N Hillside St\, Wichita\, KS\, 67219\, United States
CATEGORIES:Critter Camp
ATTACH;FMTTYPE=image/jpeg:https://kshumane.org/wp-content/uploads/2025/06/CC-FB-EVENT.jpg
END:VEVENT
BEGIN:VEVENT
DTSTART;TZID=America/Chicago:20250627T190000
DTEND;TZID=America/Chicago:20250627T190000
DTSTAMP:20260422T073037
CREATED:20250409T182856Z
LAST-MODIFIED:20260127T214712Z
UID:10000065-1751050800-1751050800@kshumane.org
SUMMARY:Furry Film Friday: Adult Edition
DESCRIPTION:Swing by the Kansas Humane Society for an ADULTS-ONLY movie night! We will be watching movies\, eating some delicious food\, and spending time with some of our adorable shelter pets. You can bring your own chair and a drink or two to enjoy the night! This will be a limited screening to 18 people\, so sign up quickly!\n \n\nAges 18+\nBYOB & BYOC\nWe supply the animals\, food\, and non-alcoholic beverages!\n\nRegistration is required. All proceeds from Furry Film Friday: Adult Edition benefit animal welfare at the Kansas Humane Society. \nRegister
URL:https://kshumane.org/event/furry-film-friday-adult-edition/2025-06-27/
LOCATION:Kansas Humane Society\, 3313 N Hillside St\, Wichita\, KS\, 67219\, United States
CATEGORIES:Furry Film Friday: Adult Edition
ATTACH;FMTTYPE=image/jpeg:https://kshumane.org/wp-content/uploads/2025/04/FFF-FB-EVENT-scaled.jpg
END:VEVENT
BEGIN:VEVENT
DTSTART;TZID=America/Chicago:20250621T180000
DTEND;TZID=America/Chicago:20250621T203000
DTSTAMP:20260422T073037
CREATED:20250617T162528Z
LAST-MODIFIED:20250625T151034Z
UID:10000081-1750528800-1750537800@kshumane.org
SUMMARY:Furry Film Saturday
DESCRIPTION:Great fun for animal-loving\, pizza-eating\, movie-watching kids! Drop your teens off at the Kansas Humane Society for: movies\, making friends with other animal lovers\, getting cozy with our friendly animals\, pizza\, popcorn\, and more! \n \n\n6th – 12th Grade\nPajamas welcome\nWe supply the animals\n\nRegistration is required. All proceeds from Furry Film Saturday benefit animal welfare and education programs at the Kansas Humane Society. \nRegister
URL:https://kshumane.org/event/furry-film-saturday/2025-06-21/
LOCATION:Kansas Humane Society\, 3313 N Hillside St\, Wichita\, KS\, 67219\, United States
CATEGORIES:Furry Film Friday
ATTACH;FMTTYPE=image/jpeg:https://kshumane.org/wp-content/uploads/2025/06/FFS-FB-EVENT.jpg
END:VEVENT
BEGIN:VEVENT
DTSTART;TZID=America/Chicago:20250621T090000
DTEND;TZID=America/Chicago:20250621T120000
DTSTAMP:20260422T073037
CREATED:20250409T175007Z
LAST-MODIFIED:20251208T162656Z
UID:10000056-1750496400-1750507200@kshumane.org
SUMMARY:Community Service Saturday
DESCRIPTION:Are you a middle or high school student looking to make a difference? Community Service Saturdays are the perfect opportunity to help the Kansas Humane Society while learning about animal care and having a blast doing it! \n \nJoin us behind the scenes at the Kansas Humane Society and get hands-on experience caring for animals\, learning about responsible pet care\, and discovering the satisfaction of giving back. Students will have the opportunity to create enrichment\, socialize with cats and dogs\, help in the clinic\, and other behind the scenes projects.\n*Activities subject to change \nDETAILS: \n\n9:00am to 11:30am\nFor students in Grades 6-12\n$15 donation per participant\nPre-registration is required to attend\n\nQUALIFICATIONS: \n\nParticipants need to be able to participate in all of the physical and learning activities.\nBecause of staffing limitations\, we are not able to accommodate special individual needs.\nUnfortunately\, we are unable to accommodate youth with severe allergies to animals or peanuts as they are involved in many volunteer activities.\nParticipants are expected to be on time and volunteer the entire shift.\nAppropriate attire includes closed-toe shoes\, pants\, and a t-shirt/jacket\nParticipants should also demonstrate eagerness to help and show respect towards animals and staff\, and be able to follow instructions.\nKHS staff reserves the right to remove any participant from the program at any given time.\n\nRegister
URL:https://kshumane.org/event/community-service-saturday/2025-06-21/
LOCATION:Kansas Humane Society\, 3313 N Hillside St\, Wichita\, KS\, 67219\, United States
CATEGORIES:Community Service Saturday
ATTACH;FMTTYPE=image/jpeg:https://kshumane.org/wp-content/uploads/2025/04/2025-CSS-FB-Event.jpg
END:VEVENT
BEGIN:VEVENT
DTSTART;TZID=America/Chicago:20250620T180000
DTEND;TZID=America/Chicago:20250620T203000
DTSTAMP:20260422T073038
CREATED:20250122T235343Z
LAST-MODIFIED:20251208T161117Z
UID:10000021-1750442400-1750451400@kshumane.org
SUMMARY:Furry Film Friday
DESCRIPTION:Great fun for animal-loving\, pizza-eating\, movie-watching kids! Drop your kids off at the Kansas Humane Society for: animal movies\, making friends with other animal lovers\, getting cozy with our friendly animals\, pizza\, popcorn and an ice cream treat! \n \n\n1st – 5th Grade\nPajamas welcome\nWe supply the animals\n\nRegistration is required. All proceeds from Furry Film Friday benefit animal welfare and education programs at the Kansas Humane Society. \nRegister
URL:https://kshumane.org/event/furry-film-friday/2025-06-20/
LOCATION:Kansas Humane Society\, 3313 N Hillside St\, Wichita\, KS\, 67219\, United States
CATEGORIES:Furry Film Friday
ATTACH;FMTTYPE=image/jpeg:https://kshumane.org/wp-content/uploads/2025/01/FFF-FB-EVENT.jpg
END:VEVENT
BEGIN:VEVENT
DTSTART;TZID=America/Chicago:20250614T100000
DTEND;TZID=America/Chicago:20250614T113000
DTSTAMP:20260422T073038
CREATED:20250122T235343Z
LAST-MODIFIED:20251208T160352Z
UID:10000012-1749895200-1749900600@kshumane.org
SUMMARY:Read to Rover
DESCRIPTION:Read to Rover is a program designed to improve children’s reading and communication skills. Reading to a dog is typically less stressful for the child and a whole lot more fun! We’re excited to partner with Love On A Leash\, providing certified therapy dogs for this paw-some service! Plus\, your child will get to take home a free book! We will be doing 30-minute read times at 10:00\, 10:30\, and 11:00 AM (limit 1 session per child)! Please arrive at your scheduled time! \n \nWe ask a $5 deposit\, but it will be refunded to you upon entry. If you do not attend\, the deposit will be kept as a donation and used to help care for our local pets. \nRegistration is strongly encouraged as spaces fill quickly. 1st-5th graders only.  \nRegister
URL:https://kshumane.org/event/read-to-rover-october-12-2024/2025-06-14/
LOCATION:Kansas Humane Society\, 3313 N Hillside St\, Wichita\, KS\, 67219\, United States
CATEGORIES:Read to Rover
ATTACH;FMTTYPE=image/jpeg:https://kshumane.org/wp-content/uploads/2025/01/R2R-FB-event.jpg
END:VEVENT
BEGIN:VEVENT
DTSTART;TZID=America/Chicago:20250613T190000
DTEND;TZID=America/Chicago:20250613T190000
DTSTAMP:20260422T073038
CREATED:20250408T215110Z
LAST-MODIFIED:20251208T162043Z
UID:10000009-1749841200-1749841200@kshumane.org
SUMMARY:Bitchy Bingo
DESCRIPTION:Save your spots for Bitchy Bingo B4 time runs out! Join us at XY Bar for a night filled with bingo\, laughs\, and fun! We’ll have food\, pride shirts\, raffles\, and more available for purchase! Proceeds go back to benefit the pets here at KHS\, so you won’t want to miss this glorious night. \n \n10 fabulous rounds of bingo to raise funds for the pets at the Kansas Humane Society. There will be prizes for each round\, plus a 50/50 raffle\, and food available for purchase. Bingo cards are 10 for $20. Extra blackout cards are $5 each. Bingo cards and daubers will be available for purchase at XY Bar (cash or credit). Reservations are required by messaging XY Bar on Facebook. \nDoors open at 6 PM\, Bingo starts at 7 PM.
URL:https://kshumane.org/event/bitchy-bingo/2025-06-13/
LOCATION:XY Bar\, 235 N Mosley St\, Wichita\, KS\, 67202\, United States
CATEGORIES:3rd Party Events
ATTACH;FMTTYPE=image/jpeg:https://kshumane.org/wp-content/uploads/2025/04/Bitchy-Bingo-Event-photo.jpg
END:VEVENT
BEGIN:VEVENT
DTSTART;TZID=America/Chicago:20250610T103000
DTEND;TZID=America/Chicago:20250610T111500
DTSTAMP:20260422T073038
CREATED:20250409T172122Z
LAST-MODIFIED:20251208T160450Z
UID:10000030-1749551400-1749554100@kshumane.org
SUMMARY:Tot Tuesday
DESCRIPTION:The Kansas Humane Society has decided to reach out to area children by offering a special monthly story! Come to KHS with your child for the opportunity to mix learning & fun! Children will enjoy listening to stories about animals\, do a fun craft and meet with KHS pets waiting for adoption. \n \n\nFor children ages 2 to 5 years old\n10:30 – 11:15am\nIn the KHS Learning Center\nPre-registration is required\n\nRegister
URL:https://kshumane.org/event/tot-tuesday/2025-06-10/
LOCATION:Kansas Humane Society\, 3313 N Hillside St\, Wichita\, KS\, 67219\, United States
CATEGORIES:Tot Tuesday
ATTACH;FMTTYPE=image/jpeg:https://kshumane.org/wp-content/uploads/2025/04/Tot-Tuesday-FB-event.jpg
END:VEVENT
BEGIN:VEVENT
DTSTART;TZID=America/Chicago:20250523T190000
DTEND;TZID=America/Chicago:20250523T190000
DTSTAMP:20260422T073038
CREATED:20250409T182856Z
LAST-MODIFIED:20260127T214712Z
UID:10000064-1748026800-1748026800@kshumane.org
SUMMARY:Furry Film Friday: Adult Edition
DESCRIPTION:Swing by the Kansas Humane Society for an ADULTS-ONLY movie night! We will be watching movies\, eating some delicious food\, and spending time with some of our adorable shelter pets. You can bring your own chair and a drink or two to enjoy the night! This will be a limited screening to 18 people\, so sign up quickly!\n \n\nAges 18+\nBYOB & BYOC\nWe supply the animals\, food\, and non-alcoholic beverages!\n\nRegistration is required. All proceeds from Furry Film Friday: Adult Edition benefit animal welfare at the Kansas Humane Society. \nRegister
URL:https://kshumane.org/event/furry-film-friday-adult-edition/2025-05-23/
LOCATION:Kansas Humane Society\, 3313 N Hillside St\, Wichita\, KS\, 67219\, United States
CATEGORIES:Furry Film Friday: Adult Edition
ATTACH;FMTTYPE=image/jpeg:https://kshumane.org/wp-content/uploads/2025/04/FFF-FB-EVENT-scaled.jpg
END:VEVENT
BEGIN:VEVENT
DTSTART;TZID=America/Chicago:20250516T180000
DTEND;TZID=America/Chicago:20250516T203000
DTSTAMP:20260422T073038
CREATED:20250122T235343Z
LAST-MODIFIED:20251208T161117Z
UID:10000020-1747418400-1747427400@kshumane.org
SUMMARY:Furry Film Friday
DESCRIPTION:Great fun for animal-loving\, pizza-eating\, movie-watching kids! Drop your kids off at the Kansas Humane Society for: animal movies\, making friends with other animal lovers\, getting cozy with our friendly animals\, pizza\, popcorn and an ice cream treat! \n \n\n1st – 5th Grade\nPajamas welcome\nWe supply the animals\n\nRegistration is required. All proceeds from Furry Film Friday benefit animal welfare and education programs at the Kansas Humane Society. \nRegister
URL:https://kshumane.org/event/furry-film-friday/2025-05-16/
LOCATION:Kansas Humane Society\, 3313 N Hillside St\, Wichita\, KS\, 67219\, United States
CATEGORIES:Furry Film Friday
ATTACH;FMTTYPE=image/jpeg:https://kshumane.org/wp-content/uploads/2025/01/FFF-FB-EVENT.jpg
END:VEVENT
BEGIN:VEVENT
DTSTART;TZID=America/Chicago:20250510T100000
DTEND;TZID=America/Chicago:20250510T113000
DTSTAMP:20260422T073038
CREATED:20250122T235343Z
LAST-MODIFIED:20251208T160352Z
UID:10000011-1746871200-1746876600@kshumane.org
SUMMARY:Read to Rover
DESCRIPTION:Read to Rover is a program designed to improve children’s reading and communication skills. Reading to a dog is typically less stressful for the child and a whole lot more fun! We’re excited to partner with Love On A Leash\, providing certified therapy dogs for this paw-some service! Plus\, your child will get to take home a free book! We will be doing 30-minute read times at 10:00\, 10:30\, and 11:00 AM (limit 1 session per child)! Please arrive at your scheduled time! \n \nWe ask a $5 deposit\, but it will be refunded to you upon entry. If you do not attend\, the deposit will be kept as a donation and used to help care for our local pets. \nRegistration is strongly encouraged as spaces fill quickly. 1st-5th graders only.  \nRegister
URL:https://kshumane.org/event/read-to-rover-october-12-2024/2025-05-10/
LOCATION:Kansas Humane Society\, 3313 N Hillside St\, Wichita\, KS\, 67219\, United States
CATEGORIES:Read to Rover
ATTACH;FMTTYPE=image/jpeg:https://kshumane.org/wp-content/uploads/2025/01/R2R-FB-event.jpg
END:VEVENT
BEGIN:VEVENT
DTSTART;TZID=America/Chicago:20250506T103000
DTEND;TZID=America/Chicago:20250506T111500
DTSTAMP:20260422T073038
CREATED:20250409T172122Z
LAST-MODIFIED:20251208T160450Z
UID:10000029-1746527400-1746530100@kshumane.org
SUMMARY:Tot Tuesday
DESCRIPTION:The Kansas Humane Society has decided to reach out to area children by offering a special monthly story! Come to KHS with your child for the opportunity to mix learning & fun! Children will enjoy listening to stories about animals\, do a fun craft and meet with KHS pets waiting for adoption. \n \n\nFor children ages 2 to 5 years old\n10:30 – 11:15am\nIn the KHS Learning Center\nPre-registration is required\n\nRegister
URL:https://kshumane.org/event/tot-tuesday/2025-05-06/
LOCATION:Kansas Humane Society\, 3313 N Hillside St\, Wichita\, KS\, 67219\, United States
CATEGORIES:Tot Tuesday
ATTACH;FMTTYPE=image/jpeg:https://kshumane.org/wp-content/uploads/2025/04/Tot-Tuesday-FB-event.jpg
END:VEVENT
BEGIN:VEVENT
DTSTART;TZID=America/Chicago:20250503T090000
DTEND;TZID=America/Chicago:20250503T120000
DTSTAMP:20260422T073038
CREATED:20250409T175007Z
LAST-MODIFIED:20251208T162656Z
UID:10000055-1746262800-1746273600@kshumane.org
SUMMARY:Community Service Saturday
DESCRIPTION:Are you a middle or high school student looking to make a difference? Community Service Saturdays are the perfect opportunity to help the Kansas Humane Society while learning about animal care and having a blast doing it! \n \nJoin us behind the scenes at the Kansas Humane Society and get hands-on experience caring for animals\, learning about responsible pet care\, and discovering the satisfaction of giving back. Students will have the opportunity to create enrichment\, socialize with cats and dogs\, help in the clinic\, and other behind the scenes projects.\n*Activities subject to change \nDETAILS: \n\n9:00am to 11:30am\nFor students in Grades 6-12\n$15 donation per participant\nPre-registration is required to attend\n\nQUALIFICATIONS: \n\nParticipants need to be able to participate in all of the physical and learning activities.\nBecause of staffing limitations\, we are not able to accommodate special individual needs.\nUnfortunately\, we are unable to accommodate youth with severe allergies to animals or peanuts as they are involved in many volunteer activities.\nParticipants are expected to be on time and volunteer the entire shift.\nAppropriate attire includes closed-toe shoes\, pants\, and a t-shirt/jacket\nParticipants should also demonstrate eagerness to help and show respect towards animals and staff\, and be able to follow instructions.\nKHS staff reserves the right to remove any participant from the program at any given time.\n\nRegister
URL:https://kshumane.org/event/community-service-saturday/2025-05-03/
LOCATION:Kansas Humane Society\, 3313 N Hillside St\, Wichita\, KS\, 67219\, United States
CATEGORIES:Community Service Saturday
ATTACH;FMTTYPE=image/jpeg:https://kshumane.org/wp-content/uploads/2025/04/2025-CSS-FB-Event.jpg
END:VEVENT
BEGIN:VEVENT
DTSTART;TZID=America/Chicago:20250426T090000
DTEND;TZID=America/Chicago:20250426T120000
DTSTAMP:20260422T073038
CREATED:20250409T175007Z
LAST-MODIFIED:20251208T162656Z
UID:10000054-1745658000-1745668800@kshumane.org
SUMMARY:Community Service Saturday
DESCRIPTION:Are you a middle or high school student looking to make a difference? Community Service Saturdays are the perfect opportunity to help the Kansas Humane Society while learning about animal care and having a blast doing it! \n \nJoin us behind the scenes at the Kansas Humane Society and get hands-on experience caring for animals\, learning about responsible pet care\, and discovering the satisfaction of giving back. Students will have the opportunity to create enrichment\, socialize with cats and dogs\, help in the clinic\, and other behind the scenes projects.\n*Activities subject to change \nDETAILS: \n\n9:00am to 11:30am\nFor students in Grades 6-12\n$15 donation per participant\nPre-registration is required to attend\n\nQUALIFICATIONS: \n\nParticipants need to be able to participate in all of the physical and learning activities.\nBecause of staffing limitations\, we are not able to accommodate special individual needs.\nUnfortunately\, we are unable to accommodate youth with severe allergies to animals or peanuts as they are involved in many volunteer activities.\nParticipants are expected to be on time and volunteer the entire shift.\nAppropriate attire includes closed-toe shoes\, pants\, and a t-shirt/jacket\nParticipants should also demonstrate eagerness to help and show respect towards animals and staff\, and be able to follow instructions.\nKHS staff reserves the right to remove any participant from the program at any given time.\n\nRegister
URL:https://kshumane.org/event/community-service-saturday/2025-04-26/
LOCATION:Kansas Humane Society\, 3313 N Hillside St\, Wichita\, KS\, 67219\, United States
CATEGORIES:Community Service Saturday
ATTACH;FMTTYPE=image/jpeg:https://kshumane.org/wp-content/uploads/2025/04/2025-CSS-FB-Event.jpg
END:VEVENT
BEGIN:VEVENT
DTSTART;TZID=America/Chicago:20250425T190000
DTEND;TZID=America/Chicago:20250425T190000
DTSTAMP:20260422T073038
CREATED:20250409T182856Z
LAST-MODIFIED:20260127T214712Z
UID:10000063-1745607600-1745607600@kshumane.org
SUMMARY:Furry Film Friday: Adult Edition
DESCRIPTION:Swing by the Kansas Humane Society for an ADULTS-ONLY movie night! We will be watching movies\, eating some delicious food\, and spending time with some of our adorable shelter pets. You can bring your own chair and a drink or two to enjoy the night! This will be a limited screening to 18 people\, so sign up quickly!\n \n\nAges 18+\nBYOB & BYOC\nWe supply the animals\, food\, and non-alcoholic beverages!\n\nRegistration is required. All proceeds from Furry Film Friday: Adult Edition benefit animal welfare at the Kansas Humane Society. \nRegister
URL:https://kshumane.org/event/furry-film-friday-adult-edition/2025-04-25/
LOCATION:Kansas Humane Society\, 3313 N Hillside St\, Wichita\, KS\, 67219\, United States
CATEGORIES:Furry Film Friday: Adult Edition
ATTACH;FMTTYPE=image/jpeg:https://kshumane.org/wp-content/uploads/2025/04/FFF-FB-EVENT-scaled.jpg
END:VEVENT
BEGIN:VEVENT
DTSTART;TZID=America/Chicago:20250418T180000
DTEND;TZID=America/Chicago:20250418T203000
DTSTAMP:20260422T073038
CREATED:20250122T235343Z
LAST-MODIFIED:20251208T161117Z
UID:10000019-1744999200-1745008200@kshumane.org
SUMMARY:Furry Film Friday
DESCRIPTION:Great fun for animal-loving\, pizza-eating\, movie-watching kids! Drop your kids off at the Kansas Humane Society for: animal movies\, making friends with other animal lovers\, getting cozy with our friendly animals\, pizza\, popcorn and an ice cream treat! \n \n\n1st – 5th Grade\nPajamas welcome\nWe supply the animals\n\nRegistration is required. All proceeds from Furry Film Friday benefit animal welfare and education programs at the Kansas Humane Society. \nRegister
URL:https://kshumane.org/event/furry-film-friday/2025-04-18/
LOCATION:Kansas Humane Society\, 3313 N Hillside St\, Wichita\, KS\, 67219\, United States
CATEGORIES:Furry Film Friday
ATTACH;FMTTYPE=image/jpeg:https://kshumane.org/wp-content/uploads/2025/01/FFF-FB-EVENT.jpg
END:VEVENT
BEGIN:VEVENT
DTSTART;TZID=America/Chicago:20250412T100000
DTEND;TZID=America/Chicago:20250412T113000
DTSTAMP:20260422T073038
CREATED:20250122T235343Z
LAST-MODIFIED:20251208T160352Z
UID:10000010-1744452000-1744457400@kshumane.org
SUMMARY:Read to Rover
DESCRIPTION:Read to Rover is a program designed to improve children’s reading and communication skills. Reading to a dog is typically less stressful for the child and a whole lot more fun! We’re excited to partner with Love On A Leash\, providing certified therapy dogs for this paw-some service! Plus\, your child will get to take home a free book! We will be doing 30-minute read times at 10:00\, 10:30\, and 11:00 AM (limit 1 session per child)! Please arrive at your scheduled time! \n \nWe ask a $5 deposit\, but it will be refunded to you upon entry. If you do not attend\, the deposit will be kept as a donation and used to help care for our local pets. \nRegistration is strongly encouraged as spaces fill quickly. 1st-5th graders only.  \nRegister
URL:https://kshumane.org/event/read-to-rover-october-12-2024/2025-04-12/
LOCATION:Kansas Humane Society\, 3313 N Hillside St\, Wichita\, KS\, 67219\, United States
CATEGORIES:Read to Rover
ATTACH;FMTTYPE=image/jpeg:https://kshumane.org/wp-content/uploads/2025/01/R2R-FB-event.jpg
END:VEVENT
BEGIN:VEVENT
DTSTART;TZID=America/Chicago:20250411T190000
DTEND;TZID=America/Chicago:20250411T190000
DTSTAMP:20260422T073038
CREATED:20250408T215110Z
LAST-MODIFIED:20251208T162043Z
UID:10000008-1744398000-1744398000@kshumane.org
SUMMARY:Bitchy Bingo
DESCRIPTION:Save your spots for Bitchy Bingo B4 time runs out! Join us at XY Bar for a night filled with bingo\, laughs\, and fun! We’ll have food\, pride shirts\, raffles\, and more available for purchase! Proceeds go back to benefit the pets here at KHS\, so you won’t want to miss this glorious night. \n \n10 fabulous rounds of bingo to raise funds for the pets at the Kansas Humane Society. There will be prizes for each round\, plus a 50/50 raffle\, and food available for purchase. Bingo cards are 10 for $20. Extra blackout cards are $5 each. Bingo cards and daubers will be available for purchase at XY Bar (cash or credit). Reservations are required by messaging XY Bar on Facebook. \nDoors open at 6 PM\, Bingo starts at 7 PM.
URL:https://kshumane.org/event/bitchy-bingo/2025-04-11/
LOCATION:XY Bar\, 235 N Mosley St\, Wichita\, KS\, 67202\, United States
CATEGORIES:3rd Party Events
ATTACH;FMTTYPE=image/jpeg:https://kshumane.org/wp-content/uploads/2025/04/Bitchy-Bingo-Event-photo.jpg
END:VEVENT
BEGIN:VEVENT
DTSTART;TZID=America/Chicago:20250408T103000
DTEND;TZID=America/Chicago:20250408T111500
DTSTAMP:20260422T073038
CREATED:20250409T172122Z
LAST-MODIFIED:20251208T160450Z
UID:10000028-1744108200-1744110900@kshumane.org
SUMMARY:Tot Tuesday
DESCRIPTION:The Kansas Humane Society has decided to reach out to area children by offering a special monthly story! Come to KHS with your child for the opportunity to mix learning & fun! Children will enjoy listening to stories about animals\, do a fun craft and meet with KHS pets waiting for adoption. \n \n\nFor children ages 2 to 5 years old\n10:30 – 11:15am\nIn the KHS Learning Center\nPre-registration is required\n\nRegister
URL:https://kshumane.org/event/tot-tuesday/2025-04-08/
LOCATION:Kansas Humane Society\, 3313 N Hillside St\, Wichita\, KS\, 67219\, United States
CATEGORIES:Tot Tuesday
ATTACH;FMTTYPE=image/jpeg:https://kshumane.org/wp-content/uploads/2025/04/Tot-Tuesday-FB-event.jpg
END:VEVENT
END:VCALENDAR