BEGIN:VCALENDAR
VERSION:2.0
PRODID:-//Kansas Humane Society - ECPv6.15.20//NONSGML v1.0//EN
CALSCALE:GREGORIAN
METHOD:PUBLISH
X-ORIGINAL-URL:https://kshumane.org
X-WR-CALDESC:Events for Kansas Humane Society
REFRESH-INTERVAL;VALUE=DURATION:PT1H
X-Robots-Tag:noindex
X-PUBLISHED-TTL:PT1H
BEGIN:VTIMEZONE
TZID:America/Chicago
BEGIN:DAYLIGHT
TZOFFSETFROM:-0600
TZOFFSETTO:-0500
TZNAME:CDT
DTSTART:20240310T080000
END:DAYLIGHT
BEGIN:STANDARD
TZOFFSETFROM:-0500
TZOFFSETTO:-0600
TZNAME:CST
DTSTART:20241103T070000
END:STANDARD
BEGIN:DAYLIGHT
TZOFFSETFROM:-0600
TZOFFSETTO:-0500
TZNAME:CDT
DTSTART:20250309T080000
END:DAYLIGHT
BEGIN:STANDARD
TZOFFSETFROM:-0500
TZOFFSETTO:-0600
TZNAME:CST
DTSTART:20251102T070000
END:STANDARD
BEGIN:DAYLIGHT
TZOFFSETFROM:-0600
TZOFFSETTO:-0500
TZNAME:CDT
DTSTART:20260308T080000
END:DAYLIGHT
BEGIN:STANDARD
TZOFFSETFROM:-0500
TZOFFSETTO:-0600
TZNAME:CST
DTSTART:20261101T070000
END:STANDARD
END:VTIMEZONE
BEGIN:VEVENT
DTSTART;TZID=America/Chicago:20251217T183000
DTEND;TZID=America/Chicago:20251217T183000
DTSTAMP:20260420T063604
CREATED:20251126T171431Z
LAST-MODIFIED:20251126T171646Z
UID:10000132-1765996200-1765996200@kshumane.org
SUMMARY:Wichita State Men’s Basketball - Full Court Fetch
DESCRIPTION:Join us at Charles Koch Arena on December 17th as Wichita State Men’s Basketball takes on Wofford at 6:30 PM! Bring the energy AND support a great cause with their Dog Collar & Ticket Combo\, perfect for Shocker fans and dog lovers alike. You can also purchase a dog collar at the game for $10! A portion of all proceeds benefits the Kansas Humane Society and our mission to help pets find loving homes. Come cheer on the Shockers\, grab an exclusive collar for your four-legged friend\, and make a difference in our community—one wagging tail at a time! \nGET TICKETS
URL:https://kshumane.org/event/wichita-state-mens-basketball-full-court-fetch/
LOCATION:WSU – Charles Koch Arena\, 1845 Fairmount St\, Wichita\, 67260\, United States
CATEGORIES:3rd Party Events
ATTACH;FMTTYPE=image/png:https://kshumane.org/wp-content/uploads/2025/11/Full-Court-Fetch-1920x1080-1.png
END:VEVENT
END:VCALENDAR